BEGIN:VCALENDAR
VERSION:2.0
PRODID:icalendar-ruby
CALSCALE:GREGORIAN
METHOD:PUBLISH
BEGIN:VEVENT
DTSTAMP:20260421T073554Z
UID:211-1014157@engagedbygrace.org
DTSTART:20260421T230000Z
DTEND:20260422T000000Z
CLASS:PUBLIC
CREATED:20260420T125056
DESCRIPTION:
LAST-MODIFIED:20260420T125056
LOCATION:HTL Library
SUMMARY:VBS Planning
URL;VALUE=URI:https://www.engagedbygrace.org/events/vbs-planning/2026-04-21
ATTACH;FILENAME=VBS.jpeg;FMTTYPE=image/jpeg:https://dq5pwpg1q8ru0.cloudfron
 t.net/2026/04/20/16/50/56/1663d579-6b1a-443a-832f-06b8fad4dc80/VBS.jpeg
END:VEVENT
END:VCALENDAR
