BEGIN:VCALENDAR
VERSION:2.0
PRODID:icalendar-ruby
CALSCALE:GREGORIAN
METHOD:PUBLISH
BEGIN:VEVENT
DTSTAMP:20260423T100816Z
UID:212-1014158@engagedbygrace.org
DTSTART:20260503T200000Z
DTEND:20260503T213000Z
CLASS:PUBLIC
CREATED:20260420T131242
DESCRIPTION:All students in 3rd\, 4th and 5th grade are invited to gather a
 t church for a social time of connection and Bible activities.  A snack w
 ill be provided along with some "get to know your Bible" games.  Please c
 ontact Director of Faith Formation Noelle Fox at noelle.fox@engagedbygrace
 .org  if your 3rd\, 4th or 5th grader will be able to attend.
LAST-MODIFIED:20260420T131242
LOCATION:
SUMMARY:Tweens Group
URL;VALUE=URI:https://www.engagedbygrace.org/events/tweens-group/2026-05-03
ATTACH;FILENAME=Finger-Cross.jpg;FMTTYPE=image/jpeg:https://dq5pwpg1q8ru0.c
 loudfront.net/2026/04/20/17/12/42/78c1cb11-7048-44b6-b898-14a37515acca/Fin
 ger-Cross.jpg
END:VEVENT
END:VCALENDAR
