BEGIN:VCALENDAR
VERSION:2.0
PRODID:icalendar-ruby
CALSCALE:GREGORIAN
METHOD:PUBLISH
BEGIN:VEVENT
DTSTAMP:20260421T234339Z
UID:213-1019305@engagedbygrace.org
DTSTART:20260519T233000Z
DTEND:20260520T003000Z
CLASS:PUBLIC
CREATED:20260421T144820
DESCRIPTION:
LAST-MODIFIED:20260421T144820
LOCATION:
SUMMARY:Habitat Steering Committee
URL;VALUE=URI:https://www.engagedbygrace.org/events/habitat-steering-commit
 tee/2026-05-19
ATTACH;FILENAME=Habitat-logo.jpg;FMTTYPE=image/jpeg:https://dq5pwpg1q8ru0.c
 loudfront.net/2026/04/21/18/48/19/644c1e37-d36d-4835-bb74-5fe42ce51321/Hab
 itat-logo.jpg
END:VEVENT
END:VCALENDAR
