BEGIN:VCALENDAR
VERSION:2.0
PRODID:icalendar-ruby
CALSCALE:GREGORIAN
METHOD:PUBLISH
BEGIN:VEVENT
DTSTAMP:20260422T071208Z
UID:26-1021256@engagedbygrace.org
DTSTART:20261022T123000Z
DTEND:20261022T163000Z
CLASS:PUBLIC
CREATED:20260421T212417
DESCRIPTION:Holy Trinity's church office is open Monday-Friday 8:30am - 12:
 30pm \n614-486-9433\nemail@engagedbygrace.org
LAST-MODIFIED:20260421T212417
LOCATION:
SUMMARY:Church Office Hours
URL;VALUE=URI:https://www.engagedbygrace.org/events/church-office-hours--26
 /2026-10-22
ATTACH;FILENAME=Holy-Trinity-front-lawn-with-sign.jpg;FMTTYPE=image/jpeg:ht
 tps://dq5pwpg1q8ru0.cloudfront.net/2025/04/16/16/42/46/c715dae7-8c30-489a-
 b84d-7441b1386a32/Holy-Trinity-front-lawn-with-sign.jpg
END:VEVENT
END:VCALENDAR
